BEGIN:VCALENDAR
VERSION:2.0
PRODID:-//DIENEMANN - NEUE WEGE FÜRS ICH - ECPv6.15.20//NONSGML v1.0//EN
CALSCALE:GREGORIAN
METHOD:PUBLISH
X-ORIGINAL-URL:https://www.katja-dienemann.de
X-WR-CALDESC:Veranstaltungen für DIENEMANN - NEUE WEGE FÜRS ICH
REFRESH-INTERVAL;VALUE=DURATION:PT1H
X-Robots-Tag:noindex
X-PUBLISHED-TTL:PT1H
BEGIN:VTIMEZONE
TZID:Europe/Berlin
BEGIN:DAYLIGHT
TZOFFSETFROM:+0100
TZOFFSETTO:+0200
TZNAME:CEST
DTSTART:20190331T010000
END:DAYLIGHT
BEGIN:STANDARD
TZOFFSETFROM:+0200
TZOFFSETTO:+0100
TZNAME:CET
DTSTART:20191027T010000
END:STANDARD
BEGIN:DAYLIGHT
TZOFFSETFROM:+0100
TZOFFSETTO:+0200
TZNAME:CEST
DTSTART:20200329T010000
END:DAYLIGHT
BEGIN:STANDARD
TZOFFSETFROM:+0200
TZOFFSETTO:+0100
TZNAME:CET
DTSTART:20201025T010000
END:STANDARD
BEGIN:DAYLIGHT
TZOFFSETFROM:+0100
TZOFFSETTO:+0200
TZNAME:CEST
DTSTART:20210328T010000
END:DAYLIGHT
BEGIN:STANDARD
TZOFFSETFROM:+0200
TZOFFSETTO:+0100
TZNAME:CET
DTSTART:20211031T010000
END:STANDARD
END:VTIMEZONE
BEGIN:VEVENT
DTSTART;TZID=Europe/Berlin:20200915T170000
DTEND;TZID=Europe/Berlin:20200915T200000
DTSTAMP:20260424T122803
CREATED:20191223T160256Z
LAST-MODIFIED:20200712T110606Z
UID:5258-1600189200-1600200000@www.katja-dienemann.de
SUMMARY:Walk\, Talk & Experience – English Goes Outdoors
DESCRIPTION:Häufig fällt uns das Sprechen einer Fremdsprache deutlich schwerer als das Verstehen. Bei diesem Outdoor-Workshop nutzen Sie die hilfreichen Wirkungen einer außergewöhnlichen Lernform\, um Ihre aktive Sprachkompetenz zu verbessern: Bewegung in der Natur. Wie wissenschaftliche Studien belegen\, sind wir in der Natur besonders aufmerksam\, konzentriert und entspannt. Die Bewegung in der Natur wirkt sich positiv auf unsere Stimmung aus und wir verlieren sprachliche Hemmschwellen leichter als in einem geschlossenen Raum. Die unten beschriebenen Lerninhalte werden an besonderen Plätzen vermittelt und während des Walks geübt. \n  \nInhalte \n\nEffortless English: Learn to speak with confidence – even as a beginner\nThe art of speaking well (Part 1)\nThe art of listening well (Part 2)\nAdvantages of mindfulness in business\nRelaxation techniques you can perform easily at work\nInteresting information and terminology on nature and the sights visited\n\n  \nDer Rahmen \nIn Kooperation mit dem Institut für internationale Kommunikation com.be.nations in Heidelberg \n  \nSeminarsprache \n\nEnglisch\n\n  \nTermine und Orte \n\nDi. 19.05.2020\, 17 – 20 Uhr (Part 1) Exotenwälder (vom Arboretum am Speyererhof zum Arboretum an der Sprunghöhe)\, Heidelberg\nDi. 15.09.2020\, 17 – 20 Uhr (Part 2) Rund um den Heiligenberg\, Heidelberg\n\n  \nTeilnahmegebühr \n\nJe Outdoor-Workshop € 90 zzgl. 16 % MwSt. inkl. Getränke\nBeide Outdoor-Workshops zusammen: € 150 zzgl. 16 % MwSt.\n\n  \nAnmeldung \nBitte melden Sie sich direkt bei meinem Kooperationspartner com.be.nations an (training@combenations.de\, Tel. 06221 13727-30).
URL:https://www.katja-dienemann.de/veranstaltung/walk-talk-experience-english-goes-outdoors_15-09-2020/
LOCATION:Natur rund um den Heiligenberg\, Auf dem Heiligenberg\, Heidelberg\, Baden-Württemberg\, 69121\, Deutschland
CATEGORIES:Englisch,Outdoor-Workshop
ATTACH;FMTTYPE=image/jpeg:https://www.katja-dienemann.de/wp-content/uploads/2019/07/iStock_000014421448Small.jpg
END:VEVENT
END:VCALENDAR