BEGIN:VCALENDAR
VERSION:2.0
PRODID:-//DIENEMANN - NEUE WEGE FÜRS ICH - ECPv6.15.20//NONSGML v1.0//EN
CALSCALE:GREGORIAN
METHOD:PUBLISH
X-ORIGINAL-URL:https://www.katja-dienemann.de
X-WR-CALDESC:Veranstaltungen für DIENEMANN - NEUE WEGE FÜRS ICH
REFRESH-INTERVAL;VALUE=DURATION:PT1H
X-Robots-Tag:noindex
X-PUBLISHED-TTL:PT1H
BEGIN:VTIMEZONE
TZID:Europe/Berlin
BEGIN:DAYLIGHT
TZOFFSETFROM:+0100
TZOFFSETTO:+0200
TZNAME:CEST
DTSTART:20250330T010000
END:DAYLIGHT
BEGIN:STANDARD
TZOFFSETFROM:+0200
TZOFFSETTO:+0100
TZNAME:CET
DTSTART:20251026T010000
END:STANDARD
BEGIN:DAYLIGHT
TZOFFSETFROM:+0100
TZOFFSETTO:+0200
TZNAME:CEST
DTSTART:20260329T010000
END:DAYLIGHT
BEGIN:STANDARD
TZOFFSETFROM:+0200
TZOFFSETTO:+0100
TZNAME:CET
DTSTART:20261025T010000
END:STANDARD
BEGIN:DAYLIGHT
TZOFFSETFROM:+0100
TZOFFSETTO:+0200
TZNAME:CEST
DTSTART:20270328T010000
END:DAYLIGHT
BEGIN:STANDARD
TZOFFSETFROM:+0200
TZOFFSETTO:+0100
TZNAME:CET
DTSTART:20271031T010000
END:STANDARD
END:VTIMEZONE
BEGIN:VEVENT
DTSTART;TZID=Europe/Berlin:20260606T100000
DTEND;TZID=Europe/Berlin:20260606T130000
DTSTAMP:20260421T233722
CREATED:20260421T114931Z
LAST-MODIFIED:20260421T115417Z
UID:8773-1780740000-1780750800@www.katja-dienemann.de
SUMMARY:Stress- und Trauma Releasing: Einführung in die Theorie und Praxis von TRE® – Tension and Trauma Releasing Exercises – mit Fabian Kiefer
DESCRIPTION:Stress- und Trauma Releasing: Einführung in die Theorie und Praxis von TRE® – Tension and Trauma Releasing Exercises – mit Fabian Kiefer \nWie dein Körper Anspannung und Stress selbstständig loslassen kann – ein dreistündiger Einführungsworkshop mit Fabian Kiefer.\n \n\nDu spürst\, dass sich Anspannung\, Stress und Unruhe in deinem Körper festsetzen – und dass du sie mit Gesprächen oder Willenskraft allein nicht wirklich loswirst?\nDu fühlst dich oft überdreht\, schläfst schlecht oder findest abends nicht in die Ruhe – und ahnst\, dass dein Nervensystem eine echte Pause bräuchte?\nDu suchst einen körperorientierten\, wissenschaftlich fundierten Weg\, um tief sitzende Spannung zu lösen – und willst eine Methode kennenlernen\, die du danach eigenständig zu Hause anwenden kannst?\n\nDann ist dieser Einführungsworkshop genau das Richtige für dich. TRE® (Tension and Trauma Releasing Exercises) wurde vom amerikanischen Traumatherapeuten Dr. David Berceli entwickelt und nutzt einen natürlichen neurogenen Zitterreflex\, den alle Säugetiere besitzen\, um Stress- und Spannungsmuster auf körperlicher Ebene zu entladen. In Tierbeobachtungen und in der Traumaforschung zeigt sich: Wenn dieser Mechanismus ungehindert ablaufen darf\, kann das autonome Nervensystem aus chronischer Übererregung zurück in Regulation finden. \nFabian Kiefer begleitet dich durch die Methode. Er ist Neuro-Systemischer Körperpsychotherapeut\, TRE® Advanced Provider und befindet sich in Ausbildung zum Somatic Experiencing® Practitioner. Parallel zu seiner Selbstständigkeit war er in einer psychosomatischen Fachklinik klinisch tätig und arbeitet heute in eigener Praxis mit Menschen\, die an stressbedingten Beschwerden\, funktionellen Symptomen und Folgen belastender Erfahrungen leiden. Seine Arbeit verbindet aktuelle Erkenntnisse aus Neurowissenschaft und Polyvagaltheorie mit einem klaren\, körperorientierten Ansatz. \n  \nIn diesem Workshop bekommst du eine verständliche theoretische Einführung in die neurophysiologischen Grundlagen von TRE® und erlebst die Methode anschließend direkt am eigenen Körper – in einem sicher gehaltenen Rahmen\, in deinem eigenen Tempo und so\, dass du sie danach eigenständig zu Hause weiterführen kannst. \nInhalte\n\nKurze theoretische Einführung: Wie unser autonomes Nervensystem auf Stress\, Überlastung und Bedrohung reagiert\nDer neurogene Zitterreflex: Warum Säugetiere ihn natürlich nutzen und was ihn beim Menschen häufig blockiert\nSichere und kontrollierte Anleitung der sieben TRE®-Übungen zur Aktivierung des Reflexes\nBegleitetes eigenes Erleben – individuell dosiert und auf dein Nervensystem abgestimmt\nIntegration und Nachspüren: Was nach einer TRE®-Sitzung im Körper geschieht\nSicherer Eigengebrauch: Wie du TRE® verantwortungsvoll in deinen Alltag integrierst – inklusive Hinweisen\, wann professionelle Begleitung sinnvoll ist\nRaum für Fragen und Austausch\n\nDer Rahmen\n\nTermin: Samstag\, 06.06.2026\, 10:00 – 13:00 Uhr\nVeranstalter: Fabian Kiefer\, psychotherapie-kiefer.de\nVeranstaltungsort: SeelenRaum\, Praxis für Lebenskunst von Katja Dienemann\, Alte Römerstraße 28\, 69259 Wilhelmsfeld\nTeilnehmerzahl: 4 bis 8 Menschen\nTeilnahmegebühr: € 65\,– pro Person\, zahlbar direkt bei der Anmeldung (PayPal\, Kreditkarte u. a. möglich)\nBitte mitbringen: rutschfeste Yogamatte (einige Matten werden auch von mir gestellt)\, bequeme Kleidung\, in der du dich gut bewegen kannst und die möglichst nicht abfärbt\, wenn man sich an eine Wand lehnt\, ggf. ein eigenes Sitzkissen\, ein eigenes Getränk\nAnmeldung bis spätestens 29.05.2026 direkt über: alfima.com/fabianki/einfuhrung-in-die-theorie-und-praxis-von-tre-tension-and-trauma-releasing-exercises\n\n\n 
URL:https://www.katja-dienemann.de/veranstaltung/stress-and-trauma-releasung-einfuerung-tre/
LOCATION:SeelenRaum – Praxis für Lebenskunst\, Alte Römerstraße 28\, Wilhelmsfeld\, Baden-Württemberg\, 69259
CATEGORIES:Einführungsworkshop,SeelenRaum-Veranstaltung
ATTACH;FMTTYPE=image/jpeg:https://www.katja-dienemann.de/wp-content/uploads/2026/04/TRE_Bild_450x203.jpeg
END:VEVENT
END:VCALENDAR